BEGIN:VCALENDAR
VERSION:2.0
PRODID:-//Ahrensburger Imkerverein - ECPv6.15.20//NONSGML v1.0//EN
CALSCALE:GREGORIAN
METHOD:PUBLISH
X-WR-CALNAME:Ahrensburger Imkerverein
X-ORIGINAL-URL:https://ahrensburger-imkerverein.de
X-WR-CALDESC:Veranstaltungen für Ahrensburger Imkerverein
REFRESH-INTERVAL;VALUE=DURATION:PT1H
X-Robots-Tag:noindex
X-PUBLISHED-TTL:PT1H
BEGIN:VTIMEZONE
TZID:Europe/Berlin
BEGIN:DAYLIGHT
TZOFFSETFROM:+0100
TZOFFSETTO:+0200
TZNAME:CEST
DTSTART:20250330T010000
END:DAYLIGHT
BEGIN:STANDARD
TZOFFSETFROM:+0200
TZOFFSETTO:+0100
TZNAME:CET
DTSTART:20251026T010000
END:STANDARD
BEGIN:DAYLIGHT
TZOFFSETFROM:+0100
TZOFFSETTO:+0200
TZNAME:CEST
DTSTART:20260329T010000
END:DAYLIGHT
BEGIN:STANDARD
TZOFFSETFROM:+0200
TZOFFSETTO:+0100
TZNAME:CET
DTSTART:20261025T010000
END:STANDARD
BEGIN:DAYLIGHT
TZOFFSETFROM:+0100
TZOFFSETTO:+0200
TZNAME:CEST
DTSTART:20270328T010000
END:DAYLIGHT
BEGIN:STANDARD
TZOFFSETFROM:+0200
TZOFFSETTO:+0100
TZNAME:CET
DTSTART:20271031T010000
END:STANDARD
END:VTIMEZONE
BEGIN:VEVENT
DTSTART;TZID=Europe/Berlin:20260501T080000
DTEND;TZID=Europe/Berlin:20260501T080000
DTSTAMP:20260424T141437
CREATED:20231028T102643Z
LAST-MODIFIED:20251206T201312Z
UID:424-1777622400-1777622400@ahrensburger-imkerverein.de
SUMMARY:Abgabe der Futtermittelbestellungen
DESCRIPTION:
URL:https://ahrensburger-imkerverein.de/event/abgabe-der-futtermittelbestellungen/
END:VEVENT
BEGIN:VEVENT
DTSTART;TZID=Europe/Berlin:20260518T183000
DTEND;TZID=Europe/Berlin:20260518T203000
DTSTAMP:20260424T141437
CREATED:20221128T141223Z
LAST-MODIFIED:20260311T114502Z
UID:385-1779129000-1779136200@ahrensburger-imkerverein.de
SUMMARY:Treffen: „Mitglieder zeigen ihre Imkerei“
DESCRIPTION:Thema: Zucht \nOrt: BLSG
URL:https://ahrensburger-imkerverein.de/event/treffen-mitglieder-zeigen-ihre-imkerei-2/
ATTACH;FMTTYPE=image/jpeg:https://ahrensburger-imkerverein.de/wp-content/uploads/2022/05/K1024_2011.08.07-2-1.jpg
END:VEVENT
BEGIN:VEVENT
DTSTART;TZID=Europe/Berlin:20260530T100000
DTEND;TZID=Europe/Berlin:20260530T160000
DTSTAMP:20260424T141437
CREATED:20221128T140437Z
LAST-MODIFIED:20251206T201547Z
UID:370-1780135200-1780156800@ahrensburger-imkerverein.de
SUMMARY:Imkerkurs 5
DESCRIPTION:Völkerkontrolle\, Wabenaustausch\, Ablegerbildung\, Baurahmen schneiden\, Schwarmfang und -behandlung\, Erkennen von Bienenschädigungen durch Spritzmittel\, Aufsetzen des 2. Honigraums.
URL:https://ahrensburger-imkerverein.de/event/imkerkurs-5/
LOCATION:Heimgartenschule\, Reesenbüttler Redder 4 - 10\, Ahrensburg\, 22926
ATTACH;FMTTYPE=image/jpeg:https://ahrensburger-imkerverein.de/wp-content/uploads/2022/06/K1600_2017.05.21-Drohnenwabe-1.jpg
END:VEVENT
BEGIN:VEVENT
DTSTART;TZID=Europe/Berlin:20260606T100000
DTEND;TZID=Europe/Berlin:20260606T160000
DTSTAMP:20260424T141437
CREATED:20221128T142044Z
LAST-MODIFIED:20251206T201518Z
UID:388-1780740000-1780761600@ahrensburger-imkerverein.de
SUMMARY:Imkerkurs 6
DESCRIPTION:Honigkurs: Rechtliche Grundlagen\, Bewertung des Reifezustandes\, Wabenentnahme; Honigverarbeitung: Schleudern\, Sieben\, Abschäumen\, Abfüllen\, Sachkundenachweis (Abschlussprüfung). Spätsommerpflege\, Vorbereiten der Völker für das kommende Bienenjahr\, Winterfütterung und Varroa-Bekämpfung.
URL:https://ahrensburger-imkerverein.de/event/imkerkurs-6/
LOCATION:Heimgartenschule\, Reesenbüttler Redder 4 - 10\, Ahrensburg\, 22926
ATTACH;FMTTYPE=image/jpeg:https://ahrensburger-imkerverein.de/wp-content/uploads/2022/06/K1600_2017.06.09-Honigernte-63.jpg
END:VEVENT
BEGIN:VEVENT
DTSTART;TZID=Europe/Berlin:20260608T191500
DTEND;TZID=Europe/Berlin:20260608T211500
DTSTAMP:20260424T141437
CREATED:20221128T143030Z
LAST-MODIFIED:20251206T201231Z
UID:396-1780946100-1780953300@ahrensburger-imkerverein.de
SUMMARY:Imkerversammlung
DESCRIPTION:
URL:https://ahrensburger-imkerverein.de/event/imkerversammlung-3/
LOCATION:Heimgartenschule\, Reesenbüttler Redder 4 - 10\, Ahrensburg\, 22926
ATTACH;FMTTYPE=image/jpeg:https://ahrensburger-imkerverein.de/wp-content/uploads/2022/06/K1600_DSC_0562.jpg
END:VEVENT
BEGIN:VEVENT
DTSTART;TZID=Europe/Berlin:20260629T183000
DTEND;TZID=Europe/Berlin:20260629T210000
DTSTAMP:20260424T141437
CREATED:20220531T034154Z
LAST-MODIFIED:20251206T201136Z
UID:153-1782757800-1782766800@ahrensburger-imkerverein.de
SUMMARY:Treffen: „Mitglieder zeigen ihre Imkerei“
DESCRIPTION:Besonders für Jungimker gedacht. \nThema:\n \nOrt: bei \nBitte anmelden
URL:https://ahrensburger-imkerverein.de/event/treffen-mitglieder-zeigen-ihre-imkerei/
ATTACH;FMTTYPE=image/jpeg:https://ahrensburger-imkerverein.de/wp-content/uploads/2022/05/K1024_2011.08.07-2-1.jpg
END:VEVENT
BEGIN:VEVENT
DTSTART;TZID=Europe/Berlin:20260704T070000
DTEND;TZID=Europe/Berlin:20260704T133000
DTSTAMP:20260424T141437
CREATED:20221128T142331Z
LAST-MODIFIED:20251206T201207Z
UID:392-1783148400-1783171800@ahrensburger-imkerverein.de
SUMMARY:Tag der Imkerei
DESCRIPTION:Auf dem Ahrensburger Wochenmarkt werden wir einen Marktstand zur Information über Bienen\, Honig und bienenfreundliche Pflanzen aufbauen.
URL:https://ahrensburger-imkerverein.de/event/tag-der-imkerei-2/
LOCATION:Wochenmarkt in Ahrensburg\, Rathausplatz\, Ahrensburg
ATTACH;FMTTYPE=image/jpeg:https://ahrensburger-imkerverein.de/wp-content/uploads/2022/06/K1600_IMG_20210703_081646.jpg
END:VEVENT
BEGIN:VEVENT
DTSTART;TZID=Europe/Berlin:20260704T100000
DTEND;TZID=Europe/Berlin:20260704T160000
DTSTAMP:20260424T141437
CREATED:20221128T142212Z
LAST-MODIFIED:20251206T201455Z
UID:390-1783159200-1783180800@ahrensburger-imkerverein.de
SUMMARY:Imkerkurs 7
DESCRIPTION:Bienenwachs: Entstehung\, Baustoff für die Bienen\, Funktion der Wabe\, Wachsverwertung; Wiederholung: Grundlagen der Bienengesundheit\, Erkennen der wichtigsten Bienenkrankheiten\, Behandlung der Varroose\, Restentmilbung im Winter; Futterkranzprobe und eventuelle Sanierungsmaßnahmen. Fragen und Antworten zum abgelaufenen Kurs. (Durchführung in Eigenregie\, Referenten: Edda Mittwollen und Frank Strübing).
URL:https://ahrensburger-imkerverein.de/event/imkerkurs-7/
LOCATION:Heimgartenschule\, Reesenbüttler Redder 4 - 10\, Ahrensburg\, 22926
ATTACH;FMTTYPE=image/jpeg:https://ahrensburger-imkerverein.de/wp-content/uploads/2022/06/K1600_2020.06.14-Bienen-4.jpg
END:VEVENT
BEGIN:VEVENT
DTSTART;TZID=Europe/Berlin:20260831T191500
DTEND;TZID=Europe/Berlin:20260831T210000
DTSTAMP:20260424T141437
CREATED:20221128T142541Z
LAST-MODIFIED:20260302T073339Z
UID:394-1788203700-1788210000@ahrensburger-imkerverein.de
SUMMARY:Imkerversammlung
DESCRIPTION:
URL:https://ahrensburger-imkerverein.de/event/imkerversammlung-2/
LOCATION:Heimgartenschule\, Reesenbüttler Redder 4 - 10\, Ahrensburg\, 22926
ATTACH;FMTTYPE=image/jpeg:https://ahrensburger-imkerverein.de/wp-content/uploads/2022/06/K1600_DSC_0562.jpg
END:VEVENT
BEGIN:VEVENT
DTSTART;VALUE=DATE:20260926
DTEND;VALUE=DATE:20260927
DTSTAMP:20260424T141437
CREATED:20231028T101943Z
LAST-MODIFIED:20260302T073502Z
UID:422-1790380800-1790467199@ahrensburger-imkerverein.de
SUMMARY:Krokusbestellung
DESCRIPTION:
URL:https://ahrensburger-imkerverein.de/event/krokusbestellung/
ATTACH;FMTTYPE=image/jpeg:https://ahrensburger-imkerverein.de/wp-content/uploads/2022/06/K1600_DSC_0650.jpg
END:VEVENT
BEGIN:VEVENT
DTSTART;TZID=Europe/Berlin:20261012T191500
DTEND;TZID=Europe/Berlin:20261012T211500
DTSTAMP:20260424T141437
CREATED:20220601T042109Z
LAST-MODIFIED:20260302T073447Z
UID:193-1791832500-1791839700@ahrensburger-imkerverein.de
SUMMARY:Vereinssitzung und Abgabe der AFB Proben
DESCRIPTION:
URL:https://ahrensburger-imkerverein.de/event/vereinssitzung-3/
LOCATION:Heimgartenschule\, Reesenbüttler Redder 4 - 10\, Ahrensburg\, 22926
ATTACH;FMTTYPE=image/jpeg:https://ahrensburger-imkerverein.de/wp-content/uploads/2022/06/K1600_DSC_0562.jpg
END:VEVENT
BEGIN:VEVENT
DTSTART;TZID=Europe/Berlin:20261026T080000
DTEND;TZID=Europe/Berlin:20261026T170000
DTSTAMP:20260424T141437
CREATED:20231028T101828Z
LAST-MODIFIED:20260302T073527Z
UID:419-1793001600-1793034000@ahrensburger-imkerverein.de
SUMMARY:Wachsumtauschaktion
DESCRIPTION:
URL:https://ahrensburger-imkerverein.de/event/wachsumtauschaktion/
ATTACH;FMTTYPE=image/jpeg:https://ahrensburger-imkerverein.de/wp-content/uploads/2022/06/K1600_2016.06.10-schlupfende-Bienen-8.jpg
END:VEVENT
BEGIN:VEVENT
DTSTART;VALUE=DATE:20261115
DTEND;VALUE=DATE:20261116
DTSTAMP:20260424T141437
CREATED:20231028T101718Z
LAST-MODIFIED:20260302T073610Z
UID:417-1794700800-1794787199@ahrensburger-imkerverein.de
SUMMARY:Meldung der Völkerzahlen
DESCRIPTION:
URL:https://ahrensburger-imkerverein.de/event/meldung-der-voelkerzahlen/
ATTACH;FMTTYPE=image/jpeg:https://ahrensburger-imkerverein.de/wp-content/uploads/2022/06/K1600_IMG_20200510_151343.jpg
END:VEVENT
END:VCALENDAR